BEGIN:VCALENDAR
VERSION:2.0
PRODID:-//Singer-Songwriterin, Coach, Animateurin, Licht-  Feuerkunst - ECPv6.15.11//NONSGML v1.0//EN
CALSCALE:GREGORIAN
METHOD:PUBLISH
X-ORIGINAL-URL:https://missmuso.de
X-WR-CALDESC:Veranstaltungen für Singer-Songwriterin, Coach, Animateurin, Licht-  Feuerkunst
REFRESH-INTERVAL;VALUE=DURATION:PT1H
X-Robots-Tag:noindex
X-PUBLISHED-TTL:PT1H
BEGIN:VTIMEZONE
TZID:Europe/Helsinki
BEGIN:DAYLIGHT
TZOFFSETFROM:+0200
TZOFFSETTO:+0300
TZNAME:EEST
DTSTART:20250330T010000
END:DAYLIGHT
BEGIN:STANDARD
TZOFFSETFROM:+0300
TZOFFSETTO:+0200
TZNAME:EET
DTSTART:20251026T010000
END:STANDARD
BEGIN:DAYLIGHT
TZOFFSETFROM:+0200
TZOFFSETTO:+0300
TZNAME:EEST
DTSTART:20260329T010000
END:DAYLIGHT
BEGIN:STANDARD
TZOFFSETFROM:+0300
TZOFFSETTO:+0200
TZNAME:EET
DTSTART:20261025T010000
END:STANDARD
BEGIN:DAYLIGHT
TZOFFSETFROM:+0200
TZOFFSETTO:+0300
TZNAME:EEST
DTSTART:20270328T010000
END:DAYLIGHT
BEGIN:STANDARD
TZOFFSETFROM:+0300
TZOFFSETTO:+0200
TZNAME:EET
DTSTART:20271031T010000
END:STANDARD
END:VTIMEZONE
BEGIN:VEVENT
DTSTART;TZID=Europe/Helsinki:20260803T160000
DTEND;TZID=Europe/Helsinki:20260803T200000
DTSTAMP:20260420T004108
CREATED:20260410T140838Z
LAST-MODIFIED:20260410T140840Z
UID:6265-1785772800-1785787200@missmuso.de
SUMMARY:Miss Muso Live Stiftung Drachensee Kiel
DESCRIPTION:
URL:https://missmuso.de/event/miss-muso-live-stiftung-drachensee-kiel/
END:VEVENT
BEGIN:VEVENT
DTSTART;TZID=Europe/Helsinki:20260811T080000
DTEND;TZID=Europe/Helsinki:20260811T170000
DTSTAMP:20260420T004108
CREATED:20251022T180840Z
LAST-MODIFIED:20251022T180842Z
UID:6090-1786435200-1786467600@missmuso.de
SUMMARY:Miss Muso Live Campingplatz Ostsee Fehmarn
DESCRIPTION:
URL:https://missmuso.de/event/miss-muso-live-campingplatz-ostsee-fehmarn-11/
END:VEVENT
BEGIN:VEVENT
DTSTART;TZID=Europe/Helsinki:20260813T190000
DTEND;TZID=Europe/Helsinki:20260813T220000
DTSTAMP:20260420T004108
CREATED:20260105T103237Z
LAST-MODIFIED:20260105T103239Z
UID:6248-1786647600-1786658400@missmuso.de
SUMMARY:Miss Muso Live Oma seine Kneipe\, Büsum
DESCRIPTION:
URL:https://missmuso.de/event/miss-muso-live-oma-seine-kneipe-buesum-6/
END:VEVENT
BEGIN:VEVENT
DTSTART;TZID=Europe/Helsinki:20260828T193000
DTEND;TZID=Europe/Helsinki:20260828T230000
DTSTAMP:20260420T004108
CREATED:20260410T141134Z
LAST-MODIFIED:20260410T141136Z
UID:6267-1787945400-1787958000@missmuso.de
SUMMARY:Miss Muso Saisonfinale Campingplatz Ostsee Fehmarn
DESCRIPTION:
URL:https://missmuso.de/event/miss-muso-saisonfinale-campingplatz-ostsee-fehmarn/
END:VEVENT
END:VCALENDAR