BEGIN:VCALENDAR
VERSION:2.0
PRODID:-//Singer-Songwriterin, Coach, Animateurin, Licht-  Feuerkunst - ECPv6.15.11//NONSGML v1.0//EN
CALSCALE:GREGORIAN
METHOD:PUBLISH
X-WR-CALNAME:Singer-Songwriterin, Coach, Animateurin, Licht-  Feuerkunst
X-ORIGINAL-URL:https://missmuso.de
X-WR-CALDESC:Veranstaltungen für Singer-Songwriterin, Coach, Animateurin, Licht-  Feuerkunst
REFRESH-INTERVAL;VALUE=DURATION:PT1H
X-Robots-Tag:noindex
X-PUBLISHED-TTL:PT1H
BEGIN:VTIMEZONE
TZID:Europe/Helsinki
BEGIN:DAYLIGHT
TZOFFSETFROM:+0200
TZOFFSETTO:+0300
TZNAME:EEST
DTSTART:20250330T010000
END:DAYLIGHT
BEGIN:STANDARD
TZOFFSETFROM:+0300
TZOFFSETTO:+0200
TZNAME:EET
DTSTART:20251026T010000
END:STANDARD
BEGIN:DAYLIGHT
TZOFFSETFROM:+0200
TZOFFSETTO:+0300
TZNAME:EEST
DTSTART:20260329T010000
END:DAYLIGHT
BEGIN:STANDARD
TZOFFSETFROM:+0300
TZOFFSETTO:+0200
TZNAME:EET
DTSTART:20261025T010000
END:STANDARD
BEGIN:DAYLIGHT
TZOFFSETFROM:+0200
TZOFFSETTO:+0300
TZNAME:EEST
DTSTART:20270328T010000
END:DAYLIGHT
BEGIN:STANDARD
TZOFFSETFROM:+0300
TZOFFSETTO:+0200
TZNAME:EET
DTSTART:20271031T010000
END:STANDARD
END:VTIMEZONE
BEGIN:VEVENT
DTSTART;TZID=Europe/Helsinki:20260515T190000
DTEND;TZID=Europe/Helsinki:20260515T220000
DTSTAMP:20260419T200011
CREATED:20251022T180538Z
LAST-MODIFIED:20251022T180539Z
UID:6081-1778871600-1778882400@missmuso.de
SUMMARY:Miss Muso Live Campingplatz Ostsee Fehmarn
DESCRIPTION:
URL:https://missmuso.de/event/miss-muso-live-campingplatz-ostsee-fehmarn-7/
END:VEVENT
BEGIN:VEVENT
DTSTART;TZID=Europe/Helsinki:20260523T190000
DTEND;TZID=Europe/Helsinki:20260523T220000
DTSTAMP:20260419T200011
CREATED:20251022T180636Z
LAST-MODIFIED:20251022T180638Z
UID:6084-1779562800-1779573600@missmuso.de
SUMMARY:Miss Muso Live Campingplatz Ostsee Fehmarn
DESCRIPTION:
URL:https://missmuso.de/event/miss-muso-live-campingplatz-ostsee-fehmarn-8/
END:VEVENT
BEGIN:VEVENT
DTSTART;TZID=Europe/Helsinki:20260530T143000
DTEND;TZID=Europe/Helsinki:20260530T163000
DTSTAMP:20260419T200011
CREATED:20260410T140337Z
LAST-MODIFIED:20260410T140339Z
UID:6257-1780151400-1780158600@missmuso.de
SUMMARY:24 Stunden Stelle Miss Muso " Das Kinderkonzert"
DESCRIPTION:
URL:https://missmuso.de/event/24-stunden-stelle-miss-muso-das-kinderkonzert/
END:VEVENT
END:VCALENDAR