BEGIN:VCALENDAR
VERSION:2.0
PRODID:-//Singer-Songwriterin, Coach, Animateurin, Licht-  Feuerkunst - ECPv6.15.11//NONSGML v1.0//EN
CALSCALE:GREGORIAN
METHOD:PUBLISH
X-WR-CALNAME:Singer-Songwriterin, Coach, Animateurin, Licht-  Feuerkunst
X-ORIGINAL-URL:https://missmuso.de
X-WR-CALDESC:Veranstaltungen für Singer-Songwriterin, Coach, Animateurin, Licht-  Feuerkunst
REFRESH-INTERVAL;VALUE=DURATION:PT1H
X-Robots-Tag:noindex
X-PUBLISHED-TTL:PT1H
BEGIN:VTIMEZONE
TZID:Europe/Helsinki
BEGIN:DAYLIGHT
TZOFFSETFROM:+0200
TZOFFSETTO:+0300
TZNAME:EEST
DTSTART:20240331T010000
END:DAYLIGHT
BEGIN:STANDARD
TZOFFSETFROM:+0300
TZOFFSETTO:+0200
TZNAME:EET
DTSTART:20241027T010000
END:STANDARD
BEGIN:DAYLIGHT
TZOFFSETFROM:+0200
TZOFFSETTO:+0300
TZNAME:EEST
DTSTART:20250330T010000
END:DAYLIGHT
BEGIN:STANDARD
TZOFFSETFROM:+0300
TZOFFSETTO:+0200
TZNAME:EET
DTSTART:20251026T010000
END:STANDARD
BEGIN:DAYLIGHT
TZOFFSETFROM:+0200
TZOFFSETTO:+0300
TZNAME:EEST
DTSTART:20260329T010000
END:DAYLIGHT
BEGIN:STANDARD
TZOFFSETFROM:+0300
TZOFFSETTO:+0200
TZNAME:EET
DTSTART:20261025T010000
END:STANDARD
BEGIN:DAYLIGHT
TZOFFSETFROM:+0200
TZOFFSETTO:+0300
TZNAME:EEST
DTSTART:20270328T010000
END:DAYLIGHT
BEGIN:STANDARD
TZOFFSETFROM:+0300
TZOFFSETTO:+0200
TZNAME:EET
DTSTART:20271031T010000
END:STANDARD
END:VTIMEZONE
BEGIN:VEVENT
DTSTART;TZID=Europe/Helsinki:20260327T210000
DTEND;TZID=Europe/Helsinki:20260327T233000
DTSTAMP:20260419T184820
CREATED:20251022T175729Z
LAST-MODIFIED:20251022T175731Z
UID:6074-1774645200-1774654200@missmuso.de
SUMMARY:Miss Muso Live Shamrock Braunschweig
DESCRIPTION:
URL:https://missmuso.de/event/miss-muso-live-shamrock-braunschweig-12/
END:VEVENT
BEGIN:VEVENT
DTSTART;TZID=Europe/Helsinki:20260319T190000
DTEND;TZID=Europe/Helsinki:20260319T220000
DTSTAMP:20260419T184820
CREATED:20260105T102958Z
LAST-MODIFIED:20260105T103000Z
UID:6244-1773946800-1773957600@missmuso.de
SUMMARY:Miss Muso Live Oma seine Kneipe\, Büsum
DESCRIPTION:
URL:https://missmuso.de/event/miss-muso-live-oma-seine-kneipe-buesum-5/
END:VEVENT
BEGIN:VEVENT
DTSTART;TZID=Europe/Helsinki:20260305T190000
DTEND;TZID=Europe/Helsinki:20260305T220000
DTSTAMP:20260419T184820
CREATED:20260105T102911Z
LAST-MODIFIED:20260105T102913Z
UID:6242-1772737200-1772748000@missmuso.de
SUMMARY:Miss Muso Live Palette 54\, Kappeln
DESCRIPTION:
URL:https://missmuso.de/event/miss-muso-live-palette-54-kappeln-3/
END:VEVENT
BEGIN:VEVENT
DTSTART;TZID=Europe/Helsinki:20260207T190000
DTEND;TZID=Europe/Helsinki:20260207T220000
DTSTAMP:20260419T184820
CREATED:20260105T102805Z
LAST-MODIFIED:20260105T102807Z
UID:6240-1770490800-1770501600@missmuso.de
SUMMARY:Miss Muso Live Oma seine Kneipe\, Büsum
DESCRIPTION:
URL:https://missmuso.de/event/miss-muso-live-oma-seine-kneipe-buesum-4/
END:VEVENT
BEGIN:VEVENT
DTSTART;TZID=Europe/Helsinki:20260130T210000
DTEND;TZID=Europe/Helsinki:20260130T233000
DTSTAMP:20260419T184820
CREATED:20251022T175612Z
LAST-MODIFIED:20251022T175614Z
UID:6072-1769806800-1769815800@missmuso.de
SUMMARY:Miss Muso Live Shamrock Braunschweig
DESCRIPTION:
URL:https://missmuso.de/event/miss-muso-live-shamrock-braunschweig-9/
END:VEVENT
BEGIN:VEVENT
DTSTART;TZID=Europe/Helsinki:20260123T200000
DTEND;TZID=Europe/Helsinki:20260123T220000
DTSTAMP:20260419T184820
CREATED:20260105T102704Z
LAST-MODIFIED:20260105T102706Z
UID:6238-1769198400-1769205600@missmuso.de
SUMMARY:Miss Muso Live Datscha Rendsburg
DESCRIPTION:
URL:https://missmuso.de/event/miss-muso-live-datscha-rendsburg-2/
END:VEVENT
BEGIN:VEVENT
DTSTART;TZID=Europe/Helsinki:20251116T120000
DTEND;TZID=Europe/Helsinki:20251116T180000
DTSTAMP:20260419T184820
CREATED:20250418T150844Z
LAST-MODIFIED:20250418T150846Z
UID:5706-1763294400-1763316000@missmuso.de
SUMMARY:Workshop Sound im Griff Kiel Rock & Pop Schule
DESCRIPTION:
URL:https://missmuso.de/event/workshop-sound-im-griff-kiel-rock-pop-schule/
END:VEVENT
BEGIN:VEVENT
DTSTART;TZID=Europe/Helsinki:20251114T210000
DTEND;TZID=Europe/Helsinki:20251114T233000
DTSTAMP:20260419T184820
CREATED:20250521T105122Z
LAST-MODIFIED:20250521T105124Z
UID:5739-1763154000-1763163000@missmuso.de
SUMMARY:Miss Muso Mixtapetour 2025 Shamrock Irish Pub Braunschweig
DESCRIPTION:
URL:https://missmuso.de/event/miss-muso-mixtapetour-2025-shamrock-irish-pub-braunschweig/
END:VEVENT
BEGIN:VEVENT
DTSTART;TZID=Europe/Helsinki:20251011T190000
DTEND;TZID=Europe/Helsinki:20251011T220000
DTSTAMP:20260419T184820
CREATED:20250228T160122Z
LAST-MODIFIED:20250228T160124Z
UID:5663-1760209200-1760220000@missmuso.de
SUMMARY:Miss Muso´s Mixtapetour Oma seine Kneipe Büsum
DESCRIPTION:
URL:https://missmuso.de/event/miss-musos-mixtapetour-oma-seine-kneipe-buesum-3/
END:VEVENT
BEGIN:VEVENT
DTSTART;TZID=Europe/Helsinki:20250928T130000
DTEND;TZID=Europe/Helsinki:20250928T153000
DTSTAMP:20260419T184820
CREATED:20250418T150541Z
LAST-MODIFIED:20250418T150543Z
UID:5700-1759064400-1759073400@missmuso.de
SUMMARY:Miss Muso Mixtapetour Schirrmanns Bremen
DESCRIPTION:
URL:https://missmuso.de/event/miss-muso-mixtapetour-schirrmanns-bremen/
END:VEVENT
BEGIN:VEVENT
DTSTART;TZID=Europe/Helsinki:20250919T210000
DTEND;TZID=Europe/Helsinki:20250919T233000
DTSTAMP:20260419T184820
CREATED:20250521T105030Z
LAST-MODIFIED:20250521T105032Z
UID:5737-1758315600-1758324600@missmuso.de
SUMMARY:Miss Muso Mixtapetour 2025 Shamrock Irsih Pub Braunschweig
DESCRIPTION:
URL:https://missmuso.de/event/miss-muso-mixtapetour-2025-shamrock-irsih-pub-braunschweig/
END:VEVENT
BEGIN:VEVENT
DTSTART;TZID=Europe/Helsinki:20250906T200000
DTEND;TZID=Europe/Helsinki:20250906T223000
DTSTAMP:20260419T184820
CREATED:20241012T184111Z
LAST-MODIFIED:20241012T184113Z
UID:5531-1757188800-1757197800@missmuso.de
SUMMARY:Miss Muso Live (Privat) Hamburg
DESCRIPTION:
URL:https://missmuso.de/event/miss-muso-live-privat-hamburg/
END:VEVENT
BEGIN:VEVENT
DTSTART;TZID=Europe/Helsinki:20250904T190000
DTEND;TZID=Europe/Helsinki:20250904T220000
DTSTAMP:20260419T184820
CREATED:20250228T155943Z
LAST-MODIFIED:20250228T155945Z
UID:5659-1757012400-1757023200@missmuso.de
SUMMARY:Miss Muso´s Mixtapetour Oma seine Kneipe Büsum
DESCRIPTION:
URL:https://missmuso.de/event/miss-musos-mixtapetour-oma-seine-kneipe-buesum-2/
END:VEVENT
BEGIN:VEVENT
DTSTART;TZID=Europe/Helsinki:20250830T153000
DTEND;TZID=Europe/Helsinki:20250830T170000
DTSTAMP:20260419T184820
CREATED:20250319T092925Z
LAST-MODIFIED:20250319T092926Z
UID:5679-1756567800-1756573200@missmuso.de
SUMMARY:Miss Muso´s Mixtapetour Rendsburger Herbst
DESCRIPTION:
URL:https://missmuso.de/event/miss-musos-mixtapetour-rendsburger-herbst/
END:VEVENT
BEGIN:VEVENT
DTSTART;TZID=Europe/Helsinki:20250829T193000
DTEND;TZID=Europe/Helsinki:20250829T220000
DTSTAMP:20260419T184820
CREATED:20250418T150634Z
LAST-MODIFIED:20250418T150636Z
UID:5702-1756495800-1756504800@missmuso.de
SUMMARY:Miss Muso Mixtape Tour Campingplatz Ostsee Fehmarn
DESCRIPTION:
URL:https://missmuso.de/event/miss-muso-mixtape-tour-campingplatz-ostsee-fehmarn/
END:VEVENT
BEGIN:VEVENT
DTSTART;TZID=Europe/Helsinki:20250826T190000
DTEND;TZID=Europe/Helsinki:20250826T220000
DTSTAMP:20260419T184820
CREATED:20250228T155756Z
LAST-MODIFIED:20250731T095411Z
UID:5655-1756234800-1756245600@missmuso.de
SUMMARY:Miss Muso´s Mixtapetour Flunderbar Hohwacht
DESCRIPTION:Wetterbedingt wurde das Konzert aus dem Juli in den August verschoben
URL:https://missmuso.de/event/miss-musos-mixtapetour-flunderbar-hohwacht/
END:VEVENT
BEGIN:VEVENT
DTSTART;TZID=Europe/Helsinki:20250809T200000
DTEND;TZID=Europe/Helsinki:20250809T220000
DTSTAMP:20260419T184820
CREATED:20250403T065254Z
LAST-MODIFIED:20250403T065256Z
UID:5685-1754769600-1754776800@missmuso.de
SUMMARY:Miss Muso´s Mixtapetour Camping Südstrand Fehmarn
DESCRIPTION:
URL:https://missmuso.de/event/miss-musos-mixtapetour-camping-suedstrand-fehmarn/
END:VEVENT
BEGIN:VEVENT
DTSTART;TZID=Europe/Helsinki:20250807T190000
DTEND;TZID=Europe/Helsinki:20250807T220000
DTSTAMP:20260419T184820
CREATED:20240923T182238Z
LAST-MODIFIED:20250731T095503Z
UID:5504-1754593200-1754604000@missmuso.de
SUMMARY:Miss Muso Live 360 Grad Bar Fehmarn
DESCRIPTION:Wetterbedingt wurde der Termin vom 21.07.auf den 07.08. verschoben
URL:https://missmuso.de/event/miss-muso-live-360-grad-bar-fehmarn-3/
END:VEVENT
BEGIN:VEVENT
DTSTART;TZID=Europe/Helsinki:20250731T193000
DTEND;TZID=Europe/Helsinki:20250731T220000
DTSTAMP:20260419T184820
CREATED:20250228T155834Z
LAST-MODIFIED:20250228T155836Z
UID:5657-1753990200-1753999200@missmuso.de
SUMMARY:Miss Muso´s Mixtapetour Campingplatz Ostsee Fehmarn
DESCRIPTION:
URL:https://missmuso.de/event/miss-musos-mixtapetour-campingplatz-ostsee-fehmarn-4/
END:VEVENT
BEGIN:VEVENT
DTSTART;TZID=Europe/Helsinki:20250715T193000
DTEND;TZID=Europe/Helsinki:20250715T220000
DTSTAMP:20260419T184820
CREATED:20250228T155724Z
LAST-MODIFIED:20250228T155725Z
UID:5653-1752607800-1752616800@missmuso.de
SUMMARY:Miss Muso´s Mixtapetour Campingplatz Ostsee Fehmarn
DESCRIPTION:
URL:https://missmuso.de/event/miss-musos-mixtapetour-campingplatz-ostsee-fehmarn-3/
END:VEVENT
BEGIN:VEVENT
DTSTART;TZID=Europe/Helsinki:20250712T190000
DTEND;TZID=Europe/Helsinki:20250712T233000
DTSTAMP:20260419T184820
CREATED:20240923T181849Z
LAST-MODIFIED:20240923T181850Z
UID:5502-1752346800-1752363000@missmuso.de
SUMMARY:Miss Muso Live Ohana Bar Stelle
DESCRIPTION:
URL:https://missmuso.de/event/miss-muso-live-ohana-bar-stelle-3/
END:VEVENT
BEGIN:VEVENT
DTSTART;TZID=Europe/Helsinki:20250628T190000
DTEND;TZID=Europe/Helsinki:20250628T223000
DTSTAMP:20260419T184820
CREATED:20250228T155605Z
LAST-MODIFIED:20250228T155607Z
UID:5651-1751137200-1751149800@missmuso.de
SUMMARY:Miss Muso´s Mixtapetour Meinersen Midsommernachtsfest Landfrauen
DESCRIPTION:
URL:https://missmuso.de/event/miss-musos-mixtapetour-meinersen-midsommernachtsfest-landfrauen/
END:VEVENT
BEGIN:VEVENT
DTSTART;TZID=Europe/Helsinki:20250627T210000
DTEND;TZID=Europe/Helsinki:20250627T233000
DTSTAMP:20260419T184820
CREATED:20250521T104857Z
LAST-MODIFIED:20250521T104858Z
UID:5735-1751058000-1751067000@missmuso.de
SUMMARY:Miss Muso´s Mixtapetour Shamrock Irish Pub Braunschweig
DESCRIPTION:
URL:https://missmuso.de/event/miss-musos-mixtapetour-shamrock-irish-pub-braunschweig/
END:VEVENT
BEGIN:VEVENT
DTSTART;TZID=Europe/Helsinki:20250622T170000
DTEND;TZID=Europe/Helsinki:20250622T183000
DTSTAMP:20260419T184820
CREATED:20250521T104803Z
LAST-MODIFIED:20250521T104804Z
UID:5733-1750611600-1750617000@missmuso.de
SUMMARY:Miss Muso´s Mixtapetour Kieler Woche 2025
DESCRIPTION:Bühne Secretstage Schevenbrücke
URL:https://missmuso.de/event/miss-musos-mixtapetour-kieler-woche-2025/
END:VEVENT
BEGIN:VEVENT
DTSTART;TZID=Europe/Helsinki:20250621T200000
DTEND;TZID=Europe/Helsinki:20250621T220000
DTSTAMP:20260419T184820
CREATED:20241002T164301Z
LAST-MODIFIED:20241002T164303Z
UID:5520-1750536000-1750543200@missmuso.de
SUMMARY:Miss Muso Live Kulturcafe Nebenan Winsen an der Aller
DESCRIPTION:
URL:https://missmuso.de/event/miss-muso-live-kulturcafe-nebenan-winsen-an-der-aller/
END:VEVENT
BEGIN:VEVENT
DTSTART;TZID=Europe/Helsinki:20250618T180000
DTEND;TZID=Europe/Helsinki:20250618T200000
DTSTAMP:20260419T184820
CREATED:20241002T164205Z
LAST-MODIFIED:20241002T164206Z
UID:5518-1750269600-1750276800@missmuso.de
SUMMARY:Miss Muso Live Musik im Park Berlin Köpenick
DESCRIPTION:
URL:https://missmuso.de/event/miss-muso-live-musik-im-park-berlin-koepenick-2/
END:VEVENT
BEGIN:VEVENT
DTSTART;TZID=Europe/Helsinki:20250607T193000
DTEND;TZID=Europe/Helsinki:20250607T220000
DTSTAMP:20260419T184820
CREATED:20250228T155433Z
LAST-MODIFIED:20250228T155435Z
UID:5647-1749324600-1749333600@missmuso.de
SUMMARY:Miss Muso´s Mixtapetour Campingplatz Ostsee Fehmarn
DESCRIPTION:
URL:https://missmuso.de/event/miss-musos-mixtapetour-campingplatz-ostsee-fehmarn-2/
END:VEVENT
BEGIN:VEVENT
DTSTART;TZID=Europe/Helsinki:20250530T080000
DTEND;TZID=Europe/Helsinki:20250530T170000
DTSTAMP:20260419T184820
CREATED:20250228T155352Z
LAST-MODIFIED:20250228T155354Z
UID:5645-1748592000-1748624400@missmuso.de
SUMMARY:Miss Muso´s Mixtapetour Campingplatz Ostsee Fehmarn
DESCRIPTION:
URL:https://missmuso.de/event/miss-musos-mixtapetour-campingplatz-ostsee-fehmarn/
END:VEVENT
BEGIN:VEVENT
DTSTART;TZID=Europe/Helsinki:20250524T190000
DTEND;TZID=Europe/Helsinki:20250524T230000
DTSTAMP:20260419T184820
CREATED:20250228T155324Z
LAST-MODIFIED:20250228T155326Z
UID:5643-1748113200-1748127600@missmuso.de
SUMMARY:Miss Muso´s Mixtapetour Oma seine Kneipe
DESCRIPTION:
URL:https://missmuso.de/event/miss-musos-mixtapetour-oma-seine-kneipe/
END:VEVENT
BEGIN:VEVENT
DTSTART;TZID=Europe/Helsinki:20250524T150000
DTEND;TZID=Europe/Helsinki:20250524T170000
DTSTAMP:20260419T184820
CREATED:20250228T155246Z
LAST-MODIFIED:20250228T155248Z
UID:5641-1748098800-1748106000@missmuso.de
SUMMARY:Miss Muso´s Mixtapetour Stelle 24 (Kinderkonzert)
DESCRIPTION:
URL:https://missmuso.de/event/miss-musos-mixtapetour-stelle-24-kinderkonzert/
END:VEVENT
END:VCALENDAR