BEGIN:VCALENDAR
VERSION:2.0
PRODID:-//Singer-Songwriterin, Coach, Animateurin, Licht-  Feuerkunst - ECPv6.15.11//NONSGML v1.0//EN
CALSCALE:GREGORIAN
METHOD:PUBLISH
X-ORIGINAL-URL:https://missmuso.de
X-WR-CALDESC:Veranstaltungen für Singer-Songwriterin, Coach, Animateurin, Licht-  Feuerkunst
REFRESH-INTERVAL;VALUE=DURATION:PT1H
X-Robots-Tag:noindex
X-PUBLISHED-TTL:PT1H
BEGIN:VTIMEZONE
TZID:Europe/Helsinki
BEGIN:DAYLIGHT
TZOFFSETFROM:+0200
TZOFFSETTO:+0300
TZNAME:EEST
DTSTART:20250330T010000
END:DAYLIGHT
BEGIN:STANDARD
TZOFFSETFROM:+0300
TZOFFSETTO:+0200
TZNAME:EET
DTSTART:20251026T010000
END:STANDARD
BEGIN:DAYLIGHT
TZOFFSETFROM:+0200
TZOFFSETTO:+0300
TZNAME:EEST
DTSTART:20260329T010000
END:DAYLIGHT
BEGIN:STANDARD
TZOFFSETFROM:+0300
TZOFFSETTO:+0200
TZNAME:EET
DTSTART:20261025T010000
END:STANDARD
BEGIN:DAYLIGHT
TZOFFSETFROM:+0200
TZOFFSETTO:+0300
TZNAME:EEST
DTSTART:20270328T010000
END:DAYLIGHT
BEGIN:STANDARD
TZOFFSETFROM:+0300
TZOFFSETTO:+0200
TZNAME:EET
DTSTART:20271031T010000
END:STANDARD
END:VTIMEZONE
BEGIN:VEVENT
DTSTART;TZID=Europe/Helsinki:20260424T210000
DTEND;TZID=Europe/Helsinki:20260424T233000
DTSTAMP:20260419T194839
CREATED:20251022T175837Z
LAST-MODIFIED:20251022T175839Z
UID:6076-1777064400-1777073400@missmuso.de
SUMMARY:Miss Muso Live Shamrock Braunschweig
DESCRIPTION:
URL:https://missmuso.de/event/miss-muso-live-shamrock-braunschweig-13/
END:VEVENT
END:VCALENDAR